BEGIN:VCALENDAR
VERSION:2.0
PRODID:-//wp-events-plugin.com//7.0.4//EN
TZID:Europe/Berlin
X-WR-TIMEZONE:Europe/Berlin
BEGIN:VEVENT
UID:9@hospizbewegung-bh.de
DTSTART;TZID=Europe/Berlin:20250116T100000
DTEND;TZID=Europe/Berlin:20250116T130000
DTSTAMP:20250710T095911Z
URL:https://www.hospizbewegung-bh.de/events/16-01-2025-letzte-hilfe-ebring
 en/
SUMMARY:16.01.2025 Letzte Hilfe Ebringen
DESCRIPTION:in Zusammenarbeit mit den Katholischen Landfrauen in Ebringen
LOCATION:Ebringen\, Straße ??\, Ebringen\, Baden Würtemberg\, 79285\, Deu
 tschland
X-APPLE-STRUCTURED-LOCATION;VALUE=URI;X-ADDRESS=Straße ??\, Ebringen\, Bad
 en Würtemberg\, 79285\, Deutschland;X-APPLE-RADIUS=100;X-TITLE=Ebringen:g
 eo:0,0
END:VEVENT
BEGIN:VTIMEZONE
TZID:Europe/Berlin
X-LIC-LOCATION:Europe/Berlin
BEGIN:STANDARD
DTSTART:20241027T020000
TZOFFSETFROM:+0200
TZOFFSETTO:+0100
TZNAME:CET
END:STANDARD
END:VTIMEZONE
END:VCALENDAR